BEGIN:VCALENDAR
VERSION:2.0
PRODID:-//Pawling Yoga &amp; Wellness - ECPv6.15.14//NONSGML v1.0//EN
CALSCALE:GREGORIAN
METHOD:PUBLISH
X-ORIGINAL-URL:https://pawlingyogawellness.org
X-WR-CALDESC:Events for Pawling Yoga &amp; Wellness
REFRESH-INTERVAL;VALUE=DURATION:PT1H
X-Robots-Tag:noindex
X-PUBLISHED-TTL:PT1H
BEGIN:VTIMEZONE
TZID:America/New_York
BEGIN:DAYLIGHT
TZOFFSETFROM:-0500
TZOFFSETTO:-0400
TZNAME:EDT
DTSTART:20240310T070000
END:DAYLIGHT
BEGIN:STANDARD
TZOFFSETFROM:-0400
TZOFFSETTO:-0500
TZNAME:EST
DTSTART:20241103T060000
END:STANDARD
BEGIN:DAYLIGHT
TZOFFSETFROM:-0500
TZOFFSETTO:-0400
TZNAME:EDT
DTSTART:20250309T070000
END:DAYLIGHT
BEGIN:STANDARD
TZOFFSETFROM:-0400
TZOFFSETTO:-0500
TZNAME:EST
DTSTART:20251102T060000
END:STANDARD
BEGIN:DAYLIGHT
TZOFFSETFROM:-0500
TZOFFSETTO:-0400
TZNAME:EDT
DTSTART:20260308T070000
END:DAYLIGHT
BEGIN:STANDARD
TZOFFSETFROM:-0400
TZOFFSETTO:-0500
TZNAME:EST
DTSTART:20261101T060000
END:STANDARD
END:VTIMEZONE
BEGIN:VEVENT
DTSTART;TZID=America/New_York:20250905T183000
DTEND;TZID=America/New_York:20250905T213000
DTSTAMP:20260422T015909
CREATED:20250720T214024Z
LAST-MODIFIED:20250720T214114Z
UID:10000032-1757097000-1757107800@pawlingyogawellness.org
SUMMARY:WELLNESS ACROSS GENERATIONS. Friday\, September 5\, 6:30-9:30pm at Akin Free Library
DESCRIPTION:Join us for our annual fundraiser supporting holistic wellness programs for every stage of life. \nWe invite you to an evening of food\, drink\, live music\, and connection — all in support of programs that nurture the physical\, mental\, and emotional well-being of our community. \nTickets are available at different levels of support. Private donations and grants make it possible for us to offer these services on a sliding scale\, ensuring access for all who seek care. \nThis year’s theme\, Wellness Across Generations\, reflects our commitment to sustaining wellness programs for seniors while building new initiatives for teens. As we evolve through life\, so do our challenges — and in today’s fast-moving world\, the need for holistic support has never been greater. \nOur youth are growing up in a digital age that often pulls them away from themselves. Adults are navigating the relentless demands of achievement and busyness. Elders are finding their footing in a world that feels\, in many ways\, unfamiliar. \nThe antidote to this overwhelm lies in community — in gathering together\, sharing experiences with our peers\, and hearing the stories of others where we may recognize ourselves. \nTogether\, we can create a circle of care that honors every age and heals every stage. \n  \nBRIDGE POSE CONTRIBUTOR. $75.00. Help us bridge the gap between our wellness services and those who have trouble budgeting for such. Your contribution at this level will pay it forward so 5 neighbors can attend our Pay What You Can (PWYC) classes. \nWARRIOR POSE CONTRIBUTOR. $125.00. With stable footing you have devotion to community\, a broad reach\, and commitment to action. Your contribution at this level will: \n\nSupport 5 PWYC attendees and\nCover the cost of one wellness class designed specifically for one of the under-served aspects of Pawling.\n\nMOUNTAIN POSE CONTRIBUTOR. $250. Mountain Pose is the foundation for all other yoga postures. It is where we learn equipoise – the balance of forces and interests; the balance between stability and ease that supports all experience\, and the interests of all. Your contribution at this level will: \n\nSupport 5 PWYC attendees and\nCover the cost of one wellness class designed specifically for the under-served and\nProvide one private holistic wellness treatment to a neighbor in need.\n\nLet’s gather at Akin Free Library to break bread\, raise a glass\, and raise some funds for the greater good. \nIf you cannot attend and would like to support our mission\, DONATIONS CAN BE MADE HERE\, or by check made payable to Pawling Yoga & Wellness\, PO Box 130\, Pawling\, NY 12564.
URL:https://pawlingyogawellness.punchpass.com/classes/18003519#new_tab
ATTACH;FMTTYPE=image/png:https://pawlingyogawellness.org/wp-content/uploads/2025/07/2025-Fundraiser.png
END:VEVENT
END:VCALENDAR