BEGIN:VCALENDAR
VERSION:2.0
PRODID:-//Pawling Yoga &amp; Wellness - ECPv6.15.14//NONSGML v1.0//EN
CALSCALE:GREGORIAN
METHOD:PUBLISH
X-WR-CALNAME:Pawling Yoga &amp; Wellness
X-ORIGINAL-URL:https://pawlingyogawellness.org
X-WR-CALDESC:Events for Pawling Yoga &amp; Wellness
REFRESH-INTERVAL;VALUE=DURATION:PT1H
X-Robots-Tag:noindex
X-PUBLISHED-TTL:PT1H
BEGIN:VTIMEZONE
TZID:America/New_York
BEGIN:DAYLIGHT
TZOFFSETFROM:-0500
TZOFFSETTO:-0400
TZNAME:EDT
DTSTART:20240310T070000
END:DAYLIGHT
BEGIN:STANDARD
TZOFFSETFROM:-0400
TZOFFSETTO:-0500
TZNAME:EST
DTSTART:20241103T060000
END:STANDARD
BEGIN:DAYLIGHT
TZOFFSETFROM:-0500
TZOFFSETTO:-0400
TZNAME:EDT
DTSTART:20250309T070000
END:DAYLIGHT
BEGIN:STANDARD
TZOFFSETFROM:-0400
TZOFFSETTO:-0500
TZNAME:EST
DTSTART:20251102T060000
END:STANDARD
BEGIN:DAYLIGHT
TZOFFSETFROM:-0500
TZOFFSETTO:-0400
TZNAME:EDT
DTSTART:20260308T070000
END:DAYLIGHT
BEGIN:STANDARD
TZOFFSETFROM:-0400
TZOFFSETTO:-0500
TZNAME:EST
DTSTART:20261101T060000
END:STANDARD
END:VTIMEZONE
BEGIN:VEVENT
DTSTART;TZID=America/New_York:20251004T130000
DTEND;TZID=America/New_York:20251004T150000
DTSTAMP:20260422T015635
CREATED:20250731T143212Z
LAST-MODIFIED:20250731T143212Z
UID:10000034-1759582800-1759590000@pawlingyogawellness.org
SUMMARY:Free Your Hips - Move with Ease with Patrick Hogan
DESCRIPTION:How to “De-Chair” yourself with Habits and exercises that release chronic hip tension for whole body freedom.\n\nDo you experience chronic pain/discomfort in your hips or lower back? \nOr\, have you ever wondered why simple positions such as standing or laying down flat on the ground can cause so much discomfort? \nPain and tension (especially in the Knees\, hips\, back\, and neck) can all arise from imbalances in our hip flexors and Psoas muscles. In this workshop\, we’ll explore a little of the anatomy of our hip flexors and Psoas muscles\, what lifestyle habits tend to cause chronic tension\, and what new habits would help us restore our mobility. We’ll experience some simple principles of alignment and Restorative Exercise to release tension and increase our ability to move more freely. \nPatrick Hogan is a Coach for movement and life. He trained as a Wayfinder Life Coach (Martha Beck Institute\,  ACC ICF Certified)\, Restorative Exercise Specialist (Nutritious Movement Institute)\, and Natural Movement trainer (Mov Nat Certified). \nHis work aims to help people undo the habits of modern living that lead to chronic tension and pain as well as to help people build movement rich lifestyles that keep our bodies moving dynamically throughout life. He leads workshops and coaching programs both online and in person throughout the Hudson Valley. Find more info at www.inalignedmovement.com
URL:https://pawlingyogawellness.punchpass.com/classes/18058079#new_tab
ATTACH;FMTTYPE=image/png:https://pawlingyogawellness.org/wp-content/uploads/2025/07/Patrick-Psoas-workshop.png
END:VEVENT
END:VCALENDAR