BEGIN:VCALENDAR
VERSION:2.0
PRODID:-//Pawling Yoga &amp; Wellness - ECPv6.15.14//NONSGML v1.0//EN
CALSCALE:GREGORIAN
METHOD:PUBLISH
X-ORIGINAL-URL:https://pawlingyogawellness.org
X-WR-CALDESC:Events for Pawling Yoga &amp; Wellness
REFRESH-INTERVAL;VALUE=DURATION:PT1H
X-Robots-Tag:noindex
X-PUBLISHED-TTL:PT1H
BEGIN:VTIMEZONE
TZID:America/New_York
BEGIN:DAYLIGHT
TZOFFSETFROM:-0500
TZOFFSETTO:-0400
TZNAME:EDT
DTSTART:20240310T070000
END:DAYLIGHT
BEGIN:STANDARD
TZOFFSETFROM:-0400
TZOFFSETTO:-0500
TZNAME:EST
DTSTART:20241103T060000
END:STANDARD
BEGIN:DAYLIGHT
TZOFFSETFROM:-0500
TZOFFSETTO:-0400
TZNAME:EDT
DTSTART:20250309T070000
END:DAYLIGHT
BEGIN:STANDARD
TZOFFSETFROM:-0400
TZOFFSETTO:-0500
TZNAME:EST
DTSTART:20251102T060000
END:STANDARD
BEGIN:DAYLIGHT
TZOFFSETFROM:-0500
TZOFFSETTO:-0400
TZNAME:EDT
DTSTART:20260308T070000
END:DAYLIGHT
BEGIN:STANDARD
TZOFFSETFROM:-0400
TZOFFSETTO:-0500
TZNAME:EST
DTSTART:20261101T060000
END:STANDARD
END:VTIMEZONE
BEGIN:VEVENT
DTSTART;TZID=America/New_York:20250518T103000
DTEND;TZID=America/New_York:20250518T114500
DTSTAMP:20260421T163322
CREATED:20250320T111309Z
LAST-MODIFIED:20250326T173201Z
UID:10000017-1747564200-1747568700@pawlingyogawellness.org
SUMMARY:Book Circle
DESCRIPTION:We are reading Inner Mastery Outer Impact by Dr. Hitendra Wadhwa. \nStop by THE BOOK COVE at 22 Charles Coleman Blvd for your copy. \nReceive 15% off if you mention you are reading along with us! \nWe will circle up at the studio for discussion on Sunday\, May 18th at 10:30am. \nThis is a free program.
URL:https://app.punchpass.com/instances/17210227#new_tab
ATTACH;FMTTYPE=image/png:https://pawlingyogawellness.org/wp-content/uploads/2025/03/Website-Events-Page.png
END:VEVENT
END:VCALENDAR